BEGIN:VCALENDAR
VERSION:2.0
PRODID:-//SASBO - ECPv6.8.2.1//NONSGML v1.0//EN
CALSCALE:GREGORIAN
METHOD:PUBLISH
X-WR-CALNAME:SASBO
X-ORIGINAL-URL:https://sasbo.com
X-WR-CALDESC:Events for SASBO
REFRESH-INTERVAL;VALUE=DURATION:PT1H
X-Robots-Tag:noindex
X-PUBLISHED-TTL:PT1H
BEGIN:VTIMEZONE
TZID:America/Regina
BEGIN:STANDARD
TZOFFSETFROM:-0600
TZOFFSETTO:-0600
TZNAME:CST
DTSTART:20220101T000000
END:STANDARD
END:VTIMEZONE
BEGIN:VEVENT
DTSTART;TZID=America/Regina:20240417T113000
DTEND;TZID=America/Regina:20240419T130000
DTSTAMP:20260421T182618
CREATED:20231215T194847Z
LAST-MODIFIED:20240409T010053Z
UID:3889-1713353400-1713531600@sasbo.com
SUMMARY:78th ANNUAL CONVENTION\, AGM and TRADE SHOW
DESCRIPTION:Convention Agenda April 2024 \nEvent Registration \nHotel Registration Link \n 
URL:https://sasbo.com/event/78th-annual-convention-agm-and-trade-show/
LOCATION:Hilton DoubleTree Regina\, SK\, 1975 Broad Street\, Regina\, Canada
ORGANIZER;CN="Saskatchewan Association of School Business Officials":MAILTO:executivedirector@sasbo.com
END:VEVENT
BEGIN:VEVENT
DTSTART;TZID=America/Regina:20230419T000000
DTEND;TZID=America/Regina:20230421T000000
DTSTAMP:20260421T182618
CREATED:20221012T185502Z
LAST-MODIFIED:20230417T234230Z
UID:3502-1681862400-1682035200@sasbo.com
SUMMARY:77th Annual Convention\, Trade Show and AGM
DESCRIPTION:SASBO’s 77th Annual Convention\, Trade Show and AGM will be held April 19-21\, 2023 at the Delta Downtown in Saskatoon. \nRegistration for this event will be available January 16\, 2023 at 10:00 a.m. \n2023 Convention Agenda Final\n2023 SASBO Convention Handbook \nExhibitor Registration\nDelegate Registration \n 
URL:https://sasbo.com/event/77th-annual-convention-trade-show-and-agm/
END:VEVENT
BEGIN:VEVENT
DTSTART;TZID=America/Regina:20220601T113000
DTEND;TZID=America/Regina:20220603T130000
DTSTAMP:20260421T182618
CREATED:20211208T191958Z
LAST-MODIFIED:20220531T205104Z
UID:3135-1654083000-1654261200@sasbo.com
SUMMARY:76th Annual Convention and Trade Show
DESCRIPTION:SASBO’s 76th Annual Convention and Tradeshow is being held on June 1-3\, 2022 at the Double Tree in Regina.   This years convention theme is Reconnecting and Reimagining . \nConvention Agenda \nExecutive Nomination Form\n2022 Convention Handbook \nDelegate Registration: https://sasbo.inviteright.com/2022AGM\nExhibitor Registration: https://sasbo.inviteright.com/2022TradeShow \nCheck back closer to the date for more details but be sure to mark it on your calendar.
URL:https://sasbo.com/event/76th-annual-convention-and-trade-show/
LOCATION:Hilton DoubleTree Regina\, SK\, 1975 Broad Street\, Regina\, Canada
ATTACH;FMTTYPE=image/png:https://sasbo.com/wp-content/uploads/2021/12/Convention-logo-cropped.png
ORGANIZER;CN="Saskatchewan Association of School Business Officials":MAILTO:executivedirector@sasbo.com
END:VEVENT
END:VCALENDAR