BEGIN:VCALENDAR
VERSION:2.0
PRODID:-//SASBO - ECPv6.8.2.1//NONSGML v1.0//EN
CALSCALE:GREGORIAN
METHOD:PUBLISH
X-WR-CALNAME:SASBO
X-ORIGINAL-URL:https://sasbo.com
X-WR-CALDESC:Events for SASBO
REFRESH-INTERVAL;VALUE=DURATION:PT1H
X-Robots-Tag:noindex
X-PUBLISHED-TTL:PT1H
BEGIN:VTIMEZONE
TZID:America/Regina
BEGIN:STANDARD
TZOFFSETFROM:-0600
TZOFFSETTO:-0600
TZNAME:CST
DTSTART:20250101T000000
END:STANDARD
END:VTIMEZONE
BEGIN:VEVENT
DTSTART;TZID=America/Regina:20250507T130000
DTEND;TZID=America/Regina:20250509T120000
DTSTAMP:20260421T181511
CREATED:20241126T171511Z
LAST-MODIFIED:20250401T145840Z
UID:4224-1746622800-1746792000@sasbo.com
SUMMARY:SASBO 79th Annual Convention\, AGM\, and Trade Show
DESCRIPTION:The SASBO 79th Annual Convention\, AGM\, and Trade Show will be held in Saskatoon from May 7-9 at the Delta Downtown Hotel.  The Trade Show will be held on May 7th. \nRegistration for Attendees and Sponsors  \n2025 SASBO Convention Agenda (Draft) and Keynote Speakers \nBook your group rate for SASBO Spring Convention 2025 \n****Please note that the Trade Show is now Sold Out.  Please contact us at executivedirector@sasbo.com if you want to be added to our wait list.****
URL:https://sasbo.com/event/sasbo-79th-annual-convention-agm-and-trade-show/
END:VEVENT
BEGIN:VEVENT
DTSTART;TZID=America/Regina:20260422T130000
DTEND;TZID=America/Regina:20260424T130000
DTSTAMP:20260421T181511
CREATED:20250917T153206Z
LAST-MODIFIED:20260419T195815Z
UID:4593-1776862800-1777035600@sasbo.com
SUMMARY:SASBO 80th Annual Convention\, Trade Show\, and AGM
DESCRIPTION:SASBO’s 80th Annual Convention\, Trade Show\, and AGM. \nThe 2026 event will be very special as we celebrate 80 years of SASBO service and commitment to education in Saskatchewan. \nWe look forward to welcoming our attendees\, sponsors\, and vendors to the Hilton DoubleTree in Regina this year. \nOnline Registration – online registration is open now closed. \n 
URL:https://sasbo.com/event/sasbo-80th-annual-convention-trade-show-and-agm/
LOCATION:Hilton DoubleTree Regina\, SK\, 1975 Broad Street\, Regina\, Canada
ORGANIZER;CN="Saskatchewan Association of School Business Officials":MAILTO:executivedirector@sasbo.com
END:VEVENT
END:VCALENDAR