BEGIN:VCALENDAR
VERSION:2.0
PRODID:-//SASBO - ECPv6.8.2.1//NONSGML v1.0//EN
CALSCALE:GREGORIAN
METHOD:PUBLISH
X-WR-CALNAME:SASBO
X-ORIGINAL-URL:https://sasbo.com
X-WR-CALDESC:Events for SASBO
REFRESH-INTERVAL;VALUE=DURATION:PT1H
X-Robots-Tag:noindex
X-PUBLISHED-TTL:PT1H
BEGIN:VTIMEZONE
TZID:America/Regina
BEGIN:STANDARD
TZOFFSETFROM:-0600
TZOFFSETTO:-0600
TZNAME:CST
DTSTART:20240101T000000
END:STANDARD
END:VTIMEZONE
BEGIN:VEVENT
DTSTART;TZID=America/Regina:20240417T113000
DTEND;TZID=America/Regina:20240419T130000
DTSTAMP:20260424T095048
CREATED:20231215T194847Z
LAST-MODIFIED:20240409T010053Z
UID:3889-1713353400-1713531600@sasbo.com
SUMMARY:78th ANNUAL CONVENTION\, AGM and TRADE SHOW
DESCRIPTION:Convention Agenda April 2024 \nEvent Registration \nHotel Registration Link \n 
URL:https://sasbo.com/event/78th-annual-convention-agm-and-trade-show/
LOCATION:Hilton DoubleTree Regina\, SK\, 1975 Broad Street\, Regina\, Canada
ORGANIZER;CN="Saskatchewan Association of School Business Officials":MAILTO:executivedirector@sasbo.com
END:VEVENT
END:VCALENDAR